BEGIN:VCALENDAR
BEGIN:VEVENT
SUMMARY:Funeral notice for CAMPS\, Warren
DTSTART:20260428T000000
DTEND:20260429T000000
DTSTAMP:20260424T065331Z
UID:6355156
DESCRIPTION:For the Funeral time and location details\, please view the no
 tice on the My Tributes site. (https://www.campaspenews.com.au/tributes/no
 tice/funeral-notices/camps-warren/6355156/)
END:VEVENT
END:VCALENDAR
