BEGIN:VCALENDAR
BEGIN:VEVENT
SUMMARY:Funeral notice for MARSHALL\, Paul McDonald
DTSTART:20260424T000000
DTEND:20260425T000000
DTSTAMP:20260420T150418Z
UID:6354844
DESCRIPTION:For the Funeral time and location details\, please view the no
 tice on the My Tributes site. (https://www.campaspenews.com.au/tributes/no
 tice/funeral-notices/marshall-paul-mcdonald/6354844/)
END:VEVENT
END:VCALENDAR
