BEGIN:VCALENDAR
BEGIN:VEVENT
SUMMARY:Funeral notice for PREGL\, Anton
DTSTART:20260427T000000
DTEND:20260428T000000
DTSTAMP:20260420T225901Z
UID:6354783
DESCRIPTION:For the Funeral time and location details\, please view the no
 tice on the My Tributes site. (https://www.campaspenews.com.au/tributes/no
 tice/funeral-notices/pregl-anton/6354783/)
END:VEVENT
END:VCALENDAR
