BEGIN:VCALENDAR
BEGIN:VEVENT
SUMMARY:Funeral notice for PALLETT\, Yvonne Rose
DTSTART:20260424T000000
DTEND:20260425T000000
DTSTAMP:20260421T050902Z
UID:6354738
DESCRIPTION:For the Funeral time and location details\, please view the no
 tice on the My Tributes site. (https://www.campaspenews.com.au/tributes/no
 tice/funeral-notices/pallett-yvonne-rose/6354738/)
END:VEVENT
END:VCALENDAR
