BEGIN:VCALENDAR
BEGIN:VEVENT
SUMMARY:Funeral notice for LEARY\, John Dennis
DTSTART:20260421T000000
DTEND:20260422T000000
DTSTAMP:20260421T094547Z
UID:6354727
DESCRIPTION:For the Funeral time and location details\, please view the no
 tice on the My Tributes site. (https://www.campaspenews.com.au/tributes/no
 tice/funeral-notices/leary-john-dennis/6354727/)
END:VEVENT
END:VCALENDAR
