BEGIN:VCALENDAR
BEGIN:VEVENT
SUMMARY:Funeral notice for PACKER\, IAN  ALBERT
DTSTART:20260501T000000
DTEND:20260502T000000
DTSTAMP:20260420T205044Z
UID:6354689
DESCRIPTION:For the Funeral time and location details\, please view the no
 tice on the My Tributes site. (https://www.campaspenews.com.au/tributes/no
 tice/funeral-notices/packer-ian-albert/6354689/)
END:VEVENT
END:VCALENDAR
