BEGIN:VCALENDAR
BEGIN:VEVENT
SUMMARY:Funeral notice for DUSZYNSKI\, Wendy Ash
DTSTART:20260424T000000
DTEND:20260425T000000
DTSTAMP:20260422T200327Z
UID:6354650
DESCRIPTION:For the Funeral time and location details\, please view the no
 tice on the My Tributes site. (https://www.campaspenews.com.au/tributes/no
 tice/funeral-notices/duszynski-wendy-ash/6354650/)
END:VEVENT
END:VCALENDAR
