BEGIN:VCALENDAR
BEGIN:VEVENT
SUMMARY:Funeral notice for SOANES\, Geoffrey Goodwin
DTSTART:20260422T000000
DTEND:20260423T000000
DTSTAMP:20260426T005359Z
UID:6354540
DESCRIPTION:For the Funeral time and location details\, please view the no
 tice on the My Tributes site. (https://www.campaspenews.com.au/tributes/no
 tice/funeral-notices/soanes-geoffrey-goodwin/6354540/)
END:VEVENT
END:VCALENDAR
