BEGIN:VCALENDAR
BEGIN:VEVENT
SUMMARY:Funeral notice for VERMAES\, Stacey Heather
DTSTART:20260427T000000
DTEND:20260428T000000
DTSTAMP:20260425T021801Z
UID:6354235
DESCRIPTION:For the Funeral time and location details\, please view the no
 tice on the My Tributes site. (https://www.campaspenews.com.au/tributes/no
 tice/funeral-notices/vermaes-stacey-heather/6354235/)
END:VEVENT
END:VCALENDAR
