BEGIN:VCALENDAR
BEGIN:VEVENT
SUMMARY:Funeral notice for BURNS\, Kerry Lyn
DTSTART:20260422T000000
DTEND:20260423T000000
DTSTAMP:20260420T034705Z
UID:6354134
DESCRIPTION:For the Funeral time and location details\, please view the no
 tice on the My Tributes site. (https://www.campaspenews.com.au/tributes/no
 tice/funeral-notices/burns-kerry-lyn/6354134/)
END:VEVENT
END:VCALENDAR
