BEGIN:VCALENDAR
BEGIN:VEVENT
SUMMARY:Funeral notice for AQUILINA\, Thelma
DTSTART:20260419T000000
DTEND:20260420T000000
DTSTAMP:20260421T001730Z
UID:6354112
DESCRIPTION:For the Funeral time and location details\, please view the no
 tice on the My Tributes site. (https://www.campaspenews.com.au/tributes/no
 tice/funeral-notices/aquilina-thelma/6354112/)
END:VEVENT
END:VCALENDAR
