BEGIN:VCALENDAR
BEGIN:VEVENT
SUMMARY:Funeral notice for WIERSMA\, Steve Sikke
DTSTART:20260420T000000
DTEND:20260421T000000
DTSTAMP:20260419T232657Z
UID:6354061
DESCRIPTION:For the Funeral time and location details\, please view the no
 tice on the My Tributes site. (https://www.campaspenews.com.au/tributes/no
 tice/funeral-notices/wiersma-steve-sikke/6354061/)
END:VEVENT
END:VCALENDAR
