BEGIN:VCALENDAR
BEGIN:VEVENT
SUMMARY:Funeral notice for SARSERO\, Salvatore
DTSTART:20260417T000000
DTEND:20260418T000000
DTSTAMP:20260420T094524Z
UID:6353854
DESCRIPTION:For the Funeral time and location details\, please view the no
 tice on the My Tributes site. (https://www.campaspenews.com.au/tributes/no
 tice/funeral-notices/sarsero-salvatore/6353854/)
END:VEVENT
END:VCALENDAR
