BEGIN:VCALENDAR
BEGIN:VEVENT
SUMMARY:Funeral notice for COLES\, Harold Eugene
DTSTART:20260417T000000
DTEND:20260418T000000
DTSTAMP:20260420T135309Z
UID:6353832
DESCRIPTION:For the Funeral time and location details\, please view the no
 tice on the My Tributes site. (https://www.campaspenews.com.au/tributes/no
 tice/funeral-notices/coles-harold-eugene/6353832/)
END:VEVENT
END:VCALENDAR
