BEGIN:VCALENDAR
BEGIN:VEVENT
SUMMARY:Funeral notice for CATALANO\, Margherita
DTSTART:20260421T000000
DTEND:20260422T000000
DTSTAMP:20260421T195803Z
UID:6353482
DESCRIPTION:For the Funeral time and location details\, please view the no
 tice on the My Tributes site. (https://www.campaspenews.com.au/tributes/no
 tice/funeral-notices/catalano-margherita/6353482/)
END:VEVENT
END:VCALENDAR
