BEGIN:VCALENDAR
BEGIN:VEVENT
SUMMARY:Funeral notice for COMINI\, Deodata (Dina)
DTSTART:20260415T000000
DTEND:20260416T000000
DTSTAMP:20260420T042915Z
UID:6353268
DESCRIPTION:For the Funeral time and location details\, please view the no
 tice on the My Tributes site. (https://www.campaspenews.com.au/tributes/no
 tice/funeral-notices/comini-deodata-dina/6353268/)
END:VEVENT
END:VCALENDAR
