BEGIN:VCALENDAR
BEGIN:VEVENT
SUMMARY:Funeral notice for TIMMS\, Margaret Beatrice
DTSTART:20260422T000000
DTEND:20260423T000000
DTSTAMP:20260420T085631Z
UID:6353046
DESCRIPTION:For the Funeral time and location details\, please view the no
 tice on the My Tributes site. (https://www.campaspenews.com.au/tributes/no
 tice/funeral-notices/timms-margaret-beatrice/6353046/)
END:VEVENT
END:VCALENDAR
