BEGIN:VCALENDAR
BEGIN:VEVENT
SUMMARY:Funeral notice for WITHERS\, Kathryn Rose
DTSTART:20260417T000000
DTEND:20260418T000000
DTSTAMP:20260421T051639Z
UID:6352758
DESCRIPTION:For the Funeral time and location details\, please view the no
 tice on the My Tributes site. (https://www.campaspenews.com.au/tributes/no
 tice/funeral-notices/withers-kathryn-rose/6352758/)
END:VEVENT
END:VCALENDAR
