BEGIN:VCALENDAR
BEGIN:VEVENT
SUMMARY:Funeral notice for SMITH\, Brian Maxwell
DTSTART:20260424T000000
DTEND:20260425T000000
DTSTAMP:20260419T125414Z
UID:6352295
DESCRIPTION:For the Funeral time and location details\, please view the no
 tice on the My Tributes site. (https://www.campaspenews.com.au/tributes/no
 tice/funeral-notices/smith-brian-maxwell/6352295/)
END:VEVENT
END:VCALENDAR
