BEGIN:VCALENDAR
BEGIN:VEVENT
SUMMARY:Funeral notice for SEBASIO\, Patricia "Pat"
DTSTART:20260411T000000
DTEND:20260412T000000
DTSTAMP:20260421T062248Z
UID:6352008
DESCRIPTION:For the Funeral time and location details\, please view the no
 tice on the My Tributes site. (https://www.campaspenews.com.au/tributes/no
 tice/funeral-notices/sebasio-patricia-pat/6352008/)
END:VEVENT
END:VCALENDAR
