BEGIN:VCALENDAR
BEGIN:VEVENT
SUMMARY:Funeral notice for ASHBY\, Bernace Margaret
DTSTART:20260417T000000
DTEND:20260418T000000
DTSTAMP:20260421T181507Z
UID:6351313
DESCRIPTION:For the Funeral time and location details\, please view the no
 tice on the My Tributes site. (https://www.campaspenews.com.au/tributes/no
 tice/funeral-notices/ashby-bernace-margaret/6351313/)
END:VEVENT
END:VCALENDAR
